BEGIN:VCALENDAR
VERSION:2.0
PRODID:-//Habitat for Humanity Peninsula and Greater Williamsburg - ECPv6.15.20//NONSGML v1.0//EN
CALSCALE:GREGORIAN
METHOD:PUBLISH
X-ORIGINAL-URL:https://habitatpgw.org
X-WR-CALDESC:Events for Habitat for Humanity Peninsula and Greater Williamsburg
REFRESH-INTERVAL;VALUE=DURATION:PT1H
X-Robots-Tag:noindex
X-PUBLISHED-TTL:PT1H
BEGIN:VTIMEZONE
TZID:America/New_York
BEGIN:DAYLIGHT
TZOFFSETFROM:-0500
TZOFFSETTO:-0400
TZNAME:EDT
DTSTART:20210314T070000
END:DAYLIGHT
BEGIN:STANDARD
TZOFFSETFROM:-0400
TZOFFSETTO:-0500
TZNAME:EST
DTSTART:20211107T060000
END:STANDARD
BEGIN:DAYLIGHT
TZOFFSETFROM:-0500
TZOFFSETTO:-0400
TZNAME:EDT
DTSTART:20220313T070000
END:DAYLIGHT
BEGIN:STANDARD
TZOFFSETFROM:-0400
TZOFFSETTO:-0500
TZNAME:EST
DTSTART:20221106T060000
END:STANDARD
BEGIN:DAYLIGHT
TZOFFSETFROM:-0500
TZOFFSETTO:-0400
TZNAME:EDT
DTSTART:20230312T070000
END:DAYLIGHT
BEGIN:STANDARD
TZOFFSETFROM:-0400
TZOFFSETTO:-0500
TZNAME:EST
DTSTART:20231105T060000
END:STANDARD
END:VTIMEZONE
BEGIN:VEVENT
DTSTART;TZID=America/New_York:20220423T083000
DTEND;TZID=America/New_York:20220423T090000
DTSTAMP:20260422T012257
CREATED:20220411T125524Z
LAST-MODIFIED:20220411T125712Z
UID:3599-1650702600-1650704400@habitatpgw.org
SUMMARY:Wall Raising Event for Hampton\, Virginia Home
DESCRIPTION:Tune in to Habitat for Humanity Peninsula and Greater Williamsburg on Facebook for a live stream of a Wall Raising event! \nSaturday\, April 23\, 2022\n8:30 a.m. \nThis house is proudly sponsored by First Baptist Church of Hampton and being built with the Scott family.
URL:https://habitatpgw.org/event/wall-raising-event-for-hampton-virginia-home/
LOCATION:Facebook Live
CATEGORIES:Virtual
ATTACH;FMTTYPE=image/jpeg:https://habitatpgw.org/wp-content/uploads/2022/04/Habitat_Wall-Raising-4-23-22_FB-Event.jpg
END:VEVENT
END:VCALENDAR