BEGIN:VCALENDAR
VERSION:2.0
PRODID:-//Habitat for Humanity Peninsula and Greater Williamsburg - ECPv6.15.20//NONSGML v1.0//EN
CALSCALE:GREGORIAN
METHOD:PUBLISH
X-ORIGINAL-URL:https://habitatpgw.org
X-WR-CALDESC:Events for Habitat for Humanity Peninsula and Greater Williamsburg
REFRESH-INTERVAL;VALUE=DURATION:PT1H
X-Robots-Tag:noindex
X-PUBLISHED-TTL:PT1H
BEGIN:VTIMEZONE
TZID:America/New_York
BEGIN:DAYLIGHT
TZOFFSETFROM:-0500
TZOFFSETTO:-0400
TZNAME:EDT
DTSTART:20200308T070000
END:DAYLIGHT
BEGIN:STANDARD
TZOFFSETFROM:-0400
TZOFFSETTO:-0500
TZNAME:EST
DTSTART:20201101T060000
END:STANDARD
BEGIN:DAYLIGHT
TZOFFSETFROM:-0500
TZOFFSETTO:-0400
TZNAME:EDT
DTSTART:20210314T070000
END:DAYLIGHT
BEGIN:STANDARD
TZOFFSETFROM:-0400
TZOFFSETTO:-0500
TZNAME:EST
DTSTART:20211107T060000
END:STANDARD
BEGIN:DAYLIGHT
TZOFFSETFROM:-0500
TZOFFSETTO:-0400
TZNAME:EDT
DTSTART:20220313T070000
END:DAYLIGHT
BEGIN:STANDARD
TZOFFSETFROM:-0400
TZOFFSETTO:-0500
TZNAME:EST
DTSTART:20221106T060000
END:STANDARD
END:VTIMEZONE
BEGIN:VEVENT
DTSTART;TZID=America/New_York:20210614T103000
DTEND;TZID=America/New_York:20210614T113000
DTSTAMP:20260422T170059
CREATED:20210608T112929Z
LAST-MODIFIED:20210609T010508Z
UID:1404-1623666600-1623670200@habitatpgw.org
SUMMARY:James Family House Ribbon Cutting and Dedication
DESCRIPTION:Habitat for Humanity Peninsula and Greater Williamsburg will welcome the James family to its new Newport News neighborhood during a home dedication ceremony on Monday\, June 14\, at 10:30 a.m. \nThe ceremony will be held rain or shine and streamed live here at facebook.com/habitatpgw. \nHabitat for Humanity Peninsula and Greater Williamsburg partnered with Rotary Clubs from Hampton\, Newport News\, Oyster Point\, the Virginia Peninsula and Warwick at City Center for the home that will be sold to Kameera James and her two young sons. James\, a pipefitter for Newport News Shipbuilding\, will receive the keys to the house at the ceremony. \nGroundbreaking for the home took place on June 18\, 2020. This is believed to be the first time that multiple Rotary Clubs joined forces to build one Habitat for Humanity home project. Together they worked to raise the funds to build the house\, secured in-kind contributions and even put in their own volunteer hours on the construction site. \nEvery family who partners with Habitat for Humanity completes sweat equity hours by building their homes and the homes of others\, as well as volunteering in the Newport News and Williamsburg ReStore. Families purchase their homes through an affordable mortgage that helps Habitat for Humanity build additional homes for qualified families.
URL:https://habitatpgw.org/event/james-family-house-ribbon-cutting-and-dedication/
CATEGORIES:Home Dedication,Virtual
ATTACH;FMTTYPE=image/jpeg:https://habitatpgw.org/wp-content/uploads/2021/06/Habitat_James-Dedication_FB-Event-Cover.jpg
END:VEVENT
END:VCALENDAR