BEGIN:VCALENDAR
VERSION:2.0
PRODID:-//Habitat for Humanity Peninsula and Greater Williamsburg - ECPv6.15.20//NONSGML v1.0//EN
CALSCALE:GREGORIAN
METHOD:PUBLISH
X-WR-CALNAME:Habitat for Humanity Peninsula and Greater Williamsburg
X-ORIGINAL-URL:https://habitatpgw.org
X-WR-CALDESC:Events for Habitat for Humanity Peninsula and Greater Williamsburg
REFRESH-INTERVAL;VALUE=DURATION:PT1H
X-Robots-Tag:noindex
X-PUBLISHED-TTL:PT1H
BEGIN:VTIMEZONE
TZID:America/New_York
BEGIN:DAYLIGHT
TZOFFSETFROM:-0500
TZOFFSETTO:-0400
TZNAME:EDT
DTSTART:20210314T070000
END:DAYLIGHT
BEGIN:STANDARD
TZOFFSETFROM:-0400
TZOFFSETTO:-0500
TZNAME:EST
DTSTART:20211107T060000
END:STANDARD
BEGIN:DAYLIGHT
TZOFFSETFROM:-0500
TZOFFSETTO:-0400
TZNAME:EDT
DTSTART:20220313T070000
END:DAYLIGHT
BEGIN:STANDARD
TZOFFSETFROM:-0400
TZOFFSETTO:-0500
TZNAME:EST
DTSTART:20221106T060000
END:STANDARD
BEGIN:DAYLIGHT
TZOFFSETFROM:-0500
TZOFFSETTO:-0400
TZNAME:EDT
DTSTART:20230312T070000
END:DAYLIGHT
BEGIN:STANDARD
TZOFFSETFROM:-0400
TZOFFSETTO:-0500
TZNAME:EST
DTSTART:20231105T060000
END:STANDARD
END:VTIMEZONE
BEGIN:VEVENT
DTSTART;TZID=America/New_York:20221203T190000
DTEND;TZID=America/New_York:20221203T190000
DTSTAMP:20260422T121129
CREATED:20221119T203415Z
LAST-MODIFIED:20221119T203415Z
UID:4733-1670094000-1670094000@habitatpgw.org
SUMMARY:Ring in the Season Benefit Concert
DESCRIPTION:Join Habitat for Humanity Peninsula and Greater Williamsburg for the 37th Annual Ring in the Season Benefit Concert! \nSaturday\, December 3\, 2022\n4 p.m. \nFirst United Church of Christ\n1017 Todds Lane in Hampton\, Virginia \nThis free event will benefit Habitat! \nFeatures seasonal music from local churches\, schools and area musicians. \nReception to follow.
URL:https://habitatpgw.org/event/ring-in-the-season-benefit-concert/
LOCATION:First United Church of Christ\, 1017 Todds Lane\, Hampton\, VA\, United States
CATEGORIES:Fundraiser
ATTACH;FMTTYPE=image/png:https://habitatpgw.org/wp-content/uploads/2022/11/2.png
END:VEVENT
END:VCALENDAR