BEGIN:VCALENDAR
VERSION:2.0
PRODID:-//Habitat for Humanity Peninsula and Greater Williamsburg - ECPv6.15.20//NONSGML v1.0//EN
CALSCALE:GREGORIAN
METHOD:PUBLISH
X-ORIGINAL-URL:https://habitatpgw.org
X-WR-CALDESC:Events for Habitat for Humanity Peninsula and Greater Williamsburg
REFRESH-INTERVAL;VALUE=DURATION:PT1H
X-Robots-Tag:noindex
X-PUBLISHED-TTL:PT1H
BEGIN:VTIMEZONE
TZID:America/New_York
BEGIN:DAYLIGHT
TZOFFSETFROM:-0500
TZOFFSETTO:-0400
TZNAME:EDT
DTSTART:20220313T070000
END:DAYLIGHT
BEGIN:STANDARD
TZOFFSETFROM:-0400
TZOFFSETTO:-0500
TZNAME:EST
DTSTART:20221106T060000
END:STANDARD
BEGIN:DAYLIGHT
TZOFFSETFROM:-0500
TZOFFSETTO:-0400
TZNAME:EDT
DTSTART:20230312T070000
END:DAYLIGHT
BEGIN:STANDARD
TZOFFSETFROM:-0400
TZOFFSETTO:-0500
TZNAME:EST
DTSTART:20231105T060000
END:STANDARD
BEGIN:DAYLIGHT
TZOFFSETFROM:-0500
TZOFFSETTO:-0400
TZNAME:EDT
DTSTART:20240310T070000
END:DAYLIGHT
BEGIN:STANDARD
TZOFFSETFROM:-0400
TZOFFSETTO:-0500
TZNAME:EST
DTSTART:20241103T060000
END:STANDARD
END:VTIMEZONE
BEGIN:VEVENT
DTSTART;TZID=America/New_York:20230918T080000
DTEND;TZID=America/New_York:20230918T150000
DTSTAMP:20260421T204315
CREATED:20230703T125305Z
LAST-MODIFIED:20230703T125828Z
UID:5823-1695024000-1695049200@habitatpgw.org
SUMMARY:19th Annual Charity Golf Tournament
DESCRIPTION:Join us for a fun day of golf to support our mission to build and sell affordable homes to local families in need. \nMonday\, September 18\, 2023\nJames River Country Club\n8 a.m. to 3 p.m. \n8 a.m.\nRegistration | Light Breakfast | Driving Range & Putting Green Open \n9 a.m.\nShotgun Start \nPlease plan to attend our post tournament awards luncheon! \nAll proceeds will be used to build Habitat homes for sale to local families in need! \nWe sell out every year!\nSwag bags for all golfers!\nHole-In-One Competition!\nRaffle Drawings! \nFor sponsorship information\, please contact Virginia Staley at virginia@habitatpgw.org or Mark Hennaman at mark@habitatpgw.org \nGet all the details and register here.
URL:https://habitatpgw.org/event/19th-annual-charity-golf-tournament/
LOCATION:James River Country Club\, 1500 Country Club Rd\, Newport News\, Virginia\, 23606
CATEGORIES:Fundraiser
ATTACH;FMTTYPE=image/jpeg:https://habitatpgw.org/wp-content/uploads/2023/07/Habitat_Golf-Tournament_FB-Event-1.jpg
END:VEVENT
END:VCALENDAR