BEGIN:VCALENDAR
VERSION:2.0
PRODID:-//Habitat for Humanity Peninsula and Greater Williamsburg - ECPv6.15.20//NONSGML v1.0//EN
CALSCALE:GREGORIAN
METHOD:PUBLISH
X-ORIGINAL-URL:https://habitatpgw.org
X-WR-CALDESC:Events for Habitat for Humanity Peninsula and Greater Williamsburg
REFRESH-INTERVAL;VALUE=DURATION:PT1H
X-Robots-Tag:noindex
X-PUBLISHED-TTL:PT1H
BEGIN:VTIMEZONE
TZID:America/New_York
BEGIN:DAYLIGHT
TZOFFSETFROM:-0500
TZOFFSETTO:-0400
TZNAME:EDT
DTSTART:20220313T070000
END:DAYLIGHT
BEGIN:STANDARD
TZOFFSETFROM:-0400
TZOFFSETTO:-0500
TZNAME:EST
DTSTART:20221106T060000
END:STANDARD
BEGIN:DAYLIGHT
TZOFFSETFROM:-0500
TZOFFSETTO:-0400
TZNAME:EDT
DTSTART:20230312T070000
END:DAYLIGHT
BEGIN:STANDARD
TZOFFSETFROM:-0400
TZOFFSETTO:-0500
TZNAME:EST
DTSTART:20231105T060000
END:STANDARD
BEGIN:DAYLIGHT
TZOFFSETFROM:-0500
TZOFFSETTO:-0400
TZNAME:EDT
DTSTART:20240310T070000
END:DAYLIGHT
BEGIN:STANDARD
TZOFFSETFROM:-0400
TZOFFSETTO:-0500
TZNAME:EST
DTSTART:20241103T060000
END:STANDARD
END:VTIMEZONE
BEGIN:VEVENT
DTSTART;TZID=America/New_York:20230725T090000
DTEND;TZID=America/New_York:20230725T150000
DTSTAMP:20260421T234736
CREATED:20230710T160949Z
LAST-MODIFIED:20230710T161019Z
UID:5890-1690275600-1690297200@habitatpgw.org
SUMMARY:Sleigh Hunger: Christmas in July Drive-Thru Food Drive
DESCRIPTION:Join us in helping SLEIGH HUNGER during our Christmas in July Drive-Thru Food Drive at the Habitat Williamsburg ReStore to benefit Grove Christian Outreach Center and Williamsburg House of Mercy. Santa might even stop by\, so bring the kids! \nTuesday\, July 25\, 2023\n9 am to 3 pm \nDrive-Thru the Habitat ReStore in Williamsburg\, located at 1303 Jamestown Rd.\, Williamsburg\, VA 23185. \nItems needed include the following:\n-Hot and Cold Cereal\n-Rice\n-Canned or Mashed Potatoes\n-Stuffing\n-Spaghetti Sauce\n-Pasta\n-Canned or Cups of Fruit\n-Cans of Tuna\, Chicken\, Protein\n-Juice\n-Canned Corn\n-Canned Vegetables\n-Canned Beans\n-Canned Tomatoes\n-Chunky Soups\n-Granola Bars and Crackers\n-Baby Food \nHunger and the need for food knows no season. \nRight now\, food pantries are struggling to maintain the levels of service they have been seeing over the past year. \nThe cost of fuel is cutting into already slim grocery budgets for many\, and the supply chain issues around the world are affecting the amount of food available for food rescue or other traditional methods of stocking pantry shelves. In the past\, food pantries would see some regular donors making regular trips with a bag or two of groceries that\, collectively\, had a tremendous impact. Fuel costs are keeping people closer to home\, and reducing the amount of “extra” people are able to do. \nFood pantries are feeling the squeeze\, and are looking for help. \nLet’s come together as a community to help!
URL:https://habitatpgw.org/event/sleigh-hunger-christmas-in-july-drive-thru-food-drive/
LOCATION:Williamsburg ReStore\, 1303 Jamestown Rd.\, Williamsburg\, VA\, 23185\, United States
CATEGORIES:Fundraiser,ReStore
ATTACH;FMTTYPE=image/jpeg:https://habitatpgw.org/wp-content/uploads/2023/07/ReStore_Sleigh-Hunger-2023_post-2.jpg
END:VEVENT
END:VCALENDAR