BEGIN:VCALENDAR
VERSION:2.0
PRODID:-//Habitat for Humanity Peninsula and Greater Williamsburg - ECPv6.15.20//NONSGML v1.0//EN
CALSCALE:GREGORIAN
METHOD:PUBLISH
X-WR-CALNAME:Habitat for Humanity Peninsula and Greater Williamsburg
X-ORIGINAL-URL:https://habitatpgw.org
X-WR-CALDESC:Events for Habitat for Humanity Peninsula and Greater Williamsburg
REFRESH-INTERVAL;VALUE=DURATION:PT1H
X-Robots-Tag:noindex
X-PUBLISHED-TTL:PT1H
BEGIN:VTIMEZONE
TZID:America/New_York
BEGIN:DAYLIGHT
TZOFFSETFROM:-0500
TZOFFSETTO:-0400
TZNAME:EDT
DTSTART:20210314T070000
END:DAYLIGHT
BEGIN:STANDARD
TZOFFSETFROM:-0400
TZOFFSETTO:-0500
TZNAME:EST
DTSTART:20211107T060000
END:STANDARD
BEGIN:DAYLIGHT
TZOFFSETFROM:-0500
TZOFFSETTO:-0400
TZNAME:EDT
DTSTART:20220313T070000
END:DAYLIGHT
BEGIN:STANDARD
TZOFFSETFROM:-0400
TZOFFSETTO:-0500
TZNAME:EST
DTSTART:20221106T060000
END:STANDARD
BEGIN:DAYLIGHT
TZOFFSETFROM:-0500
TZOFFSETTO:-0400
TZNAME:EDT
DTSTART:20230312T070000
END:DAYLIGHT
BEGIN:STANDARD
TZOFFSETFROM:-0400
TZOFFSETTO:-0500
TZNAME:EST
DTSTART:20231105T060000
END:STANDARD
END:VTIMEZONE
BEGIN:VEVENT
DTSTART;TZID=America/New_York:20220219T190000
DTEND;TZID=America/New_York:20220219T230000
DTSTAMP:20260423T022645
CREATED:20210520T142543Z
LAST-MODIFIED:20211216T155622Z
UID:1335-1645297200-1645311600@habitatpgw.org
SUMMARY:Raise the Roof RENOVATED for 2022
DESCRIPTION:***SAVE THE DATE: MORE DETAILS COMING SOON***Help us Raise the Roof on another Habitat home! \nOur annual RAISE THE ROOF fundraiser is getting renovated for 2022 and will be held at the James River Country Club and feature: \n\nScrumptious Food\nTasty Signature Drinks\nLive Music\nDancing\nLive & Silent Auctions\nFestive Attire\n\nLearn more here!
URL:https://habitatpgw.org/event/raise-the-roof-2022/
LOCATION:James River Country Club\, 1500 Country Club Rd\, Newport News\, Virginia\, 23606
CATEGORIES:Fundraiser
ATTACH;FMTTYPE=image/jpeg:https://habitatpgw.org/wp-content/uploads/2021/05/Habitat_Raise-the-Roof-2022_FB-COVER.jpg
END:VEVENT
END:VCALENDAR