BEGIN:VCALENDAR
VERSION:2.0
PRODID:-//Habitat for Humanity Peninsula and Greater Williamsburg - ECPv6.15.20//NONSGML v1.0//EN
CALSCALE:GREGORIAN
METHOD:PUBLISH
X-WR-CALNAME:Habitat for Humanity Peninsula and Greater Williamsburg
X-ORIGINAL-URL:https://habitatpgw.org
X-WR-CALDESC:Events for Habitat for Humanity Peninsula and Greater Williamsburg
REFRESH-INTERVAL;VALUE=DURATION:PT1H
X-Robots-Tag:noindex
X-PUBLISHED-TTL:PT1H
BEGIN:VTIMEZONE
TZID:America/New_York
BEGIN:DAYLIGHT
TZOFFSETFROM:-0500
TZOFFSETTO:-0400
TZNAME:EDT
DTSTART:20200308T070000
END:DAYLIGHT
BEGIN:STANDARD
TZOFFSETFROM:-0400
TZOFFSETTO:-0500
TZNAME:EST
DTSTART:20201101T060000
END:STANDARD
BEGIN:DAYLIGHT
TZOFFSETFROM:-0500
TZOFFSETTO:-0400
TZNAME:EDT
DTSTART:20210314T070000
END:DAYLIGHT
BEGIN:STANDARD
TZOFFSETFROM:-0400
TZOFFSETTO:-0500
TZNAME:EST
DTSTART:20211107T060000
END:STANDARD
BEGIN:DAYLIGHT
TZOFFSETFROM:-0500
TZOFFSETTO:-0400
TZNAME:EDT
DTSTART:20220313T070000
END:DAYLIGHT
BEGIN:STANDARD
TZOFFSETFROM:-0400
TZOFFSETTO:-0500
TZNAME:EST
DTSTART:20221106T060000
END:STANDARD
END:VTIMEZONE
BEGIN:VEVENT
DTSTART;VALUE=DATE:20210216
DTEND;VALUE=DATE:20211101
DTSTAMP:20260423T094949
CREATED:20210501T134608Z
LAST-MODIFIED:20211112T010709Z
UID:859-1613433600-1635724799@habitatpgw.org
SUMMARY:Raise the Roof 2021
DESCRIPTION:THERE MAY NOT BE A PARTY THIS YEAR…\n…BUT WE STILL HAVE A HOUSE TO BUILD!\nOne in three local families spends half or more of their income on rent\, often having to choose between housing\, food\, transportation or healthcare. \nHabitat for Humanity Peninsula & Greater Williamsburg strives to help as many families as we can\, but the lack of decent and affordable housing remains a critical problem locally. \nBy helping us Raise the Roof\, you will provide much-needed funding so we can continue to build homes for sale to families with low to moderate income. \nCLICK HERE TO VISIT THE RAISE THE ROOF 2021 SPECIAL EVENT PAGE AND DONATE ONLINE.
URL:https://habitatpgw.org/event/raise-the-roof-2021/
CATEGORIES:Fundraiser
ATTACH;FMTTYPE=image/jpeg:https://habitatpgw.org/wp-content/uploads/2021/05/img-2432_1_orig.jpeg
END:VEVENT
BEGIN:VEVENT
DTSTART;VALUE=DATE:20210920
DTEND;VALUE=DATE:20210921
DTSTAMP:20260423T094949
CREATED:20210520T140603Z
LAST-MODIFIED:20210824T151420Z
UID:1327-1632096000-1632182399@habitatpgw.org
SUMMARY:Golf 2021
DESCRIPTION:17th Annual Charity Golf Tournament\nPresented by EPOC CONSTRUCTION\, INC.\n\nJoin Habitat for Humanity Peninsula and Greater Williamsburg on Monday\, September 20\, 2021 for the 17th Annual Charity Golf Tournament. \n\n\n\nAll proceeds will be used to build another Habitat home for a deserving family in our community. \n\n\n\nEvent will be held at the beautiful James River Country Club. \n\n\n\n8 a.m. registration 9 a.m. shotgun start \n\n\n\nThis event sells out every year! Swag bags for all golfers! Hole-in-one competition! Raffle drawings! \n\nSponsorships ONLY Available Now! \nDOWNLOAD the Sponsorship Packet HERE
URL:https://habitatpgw.org/event/golf-2021/
CATEGORIES:Fundraiser
ATTACH;FMTTYPE=image/jpeg:https://habitatpgw.org/wp-content/uploads/2021/05/Habitat_2021-Golf-Tournament_FB-Event-Cover.jpg
END:VEVENT
END:VCALENDAR